BEGIN:VCALENDAR
VERSION:2.0
PRODID:-//South Africa Soccer//Fixtures//EN
CALSCALE:GREGORIAN
METHOD:PUBLISH

BEGIN:VEVENT
UID:sa-nigeria-20250908@soccer.co.za
DTSTART:20250908T180000Z
DTEND:20250908T200000Z
SUMMARY:South Africa vs Nigeria
DESCRIPTION:FIFA World Cup African Qualifiers - Group Stage - Matchday 8 of 10
LOCATION:TBD
STATUS:CONFIRMED
BEGIN:VALARM
ACTION:DISPLAY
DESCRIPTION:South Africa vs Nigeria starting in 1 hour
TRIGGER:-PT1H
END:VALARM
END:VEVENT

BEGIN:VEVENT
UID:zimbabwe-sa-20251006@soccer.co.za
DTSTART:20251006T180000Z
DTEND:20251006T200000Z
SUMMARY:Zimbabwe vs South Africa
DESCRIPTION:FIFA World Cup African Qualifiers - Group Stage - Matchday 9 of 10
LOCATION:TBD
STATUS:CONFIRMED
BEGIN:VALARM
ACTION:DISPLAY
DESCRIPTION:Zimbabwe vs South Africa starting in 1 hour
TRIGGER:-PT1H
END:VALARM
END:VEVENT

BEGIN:VEVENT
UID:sa-rwanda-20251013@soccer.co.za
DTSTART:20251013T180000Z
DTEND:20251013T200000Z
SUMMARY:South Africa vs Rwanda
DESCRIPTION:FIFA World Cup African Qualifiers - Group Stage - Matchday 10 of 10
LOCATION:TBD
STATUS:CONFIRMED
BEGIN:VALARM
ACTION:DISPLAY
DESCRIPTION:South Africa vs Rwanda starting in 1 hour
TRIGGER:-PT1H
END:VALARM
END:VEVENT

BEGIN:VEVENT
UID:sa-angola-20251222@soccer.co.za
DTSTART:20251222T180000Z
DTEND:20251222T200000Z
SUMMARY:South Africa vs Angola
DESCRIPTION:Africa Cup of Nations - Group Stage - Matchday 1 of 3
LOCATION:TBD
STATUS:CONFIRMED
BEGIN:VALARM
ACTION:DISPLAY
DESCRIPTION:South Africa vs Angola starting in 1 hour
TRIGGER:-PT1H
END:VALARM
END:VEVENT

BEGIN:VEVENT
UID:egypt-sa-20251226@soccer.co.za
DTSTART:20251226T180000Z
DTEND:20251226T200000Z
SUMMARY:Egypt vs South Africa
DESCRIPTION:Africa Cup of Nations - Group Stage - Matchday 2 of 3
LOCATION:TBD
STATUS:CONFIRMED
BEGIN:VALARM
ACTION:DISPLAY
DESCRIPTION:Egypt vs South Africa starting in 1 hour
TRIGGER:-PT1H
END:VALARM
END:VEVENT

END:VCALENDAR